BEGIN:VCALENDAR
VERSION:2.0
PRODID:Ação de Sensibilização em Rebordões Santa Maria
X-WR-CALNAME:Ação de Sensibilização em Rebordões Santa Maria
X-WR-TIMEZONE:Europe/Lisbon
X-PUBLISHED-TTL:P1W
BEGIN:VTIMEZONE
TZID:Europe/Lisbon
X-LIC-LOCATION:Europe/Lisbon
END:VTIMEZONE
BEGIN:VEVENT
UID:69eaf13a45e76
DTSTART;VALUE=DATE:20251230
SEQUENCE:0
TRANSP:OPAQUE
DTEND;VALUE=DATE:20251231
SUMMARY:Ação de Sensibilização em Rebordões Santa Maria
CLASS:PUBLIC
DESCRIPTION:♻️ Ecopontos Domésticos & Ação de Sensibilização em Re
 bordões Santa Maria ♻️O Município de Ponte de Lima\, em parceria com
  a Resulima\, vai distribuir 700 ecopontos domésticos pelas freguesias do
  concelho\, de acordo com o número de habitantes de cada uma.Ainda não n
 os foi comunicado qual será o número (sempre reduzido face às necessida
 des) atribuído a Rebordões Santa Maria\, mas não queremos que a nossa f
 reguesia fique de fora desta iniciativa e da campanha de sensibilização 
 ambiental.Data da ação de sensibilização: 30 de dezembro Hora: 21h00
  Local: Sede da Junta de Freguesia de Rebordões Santa MariaNesta sessão
 \, dinamizada em articulação com o Município e a Resulima\, será abord
 ada a correta separação de resíduos e a importância da reciclagem.INSC
 RIÇÕES ABERTASQuem pretender participar na ação de sensibilização (e
  ficar referenciado para receber ecoponto doméstico\, de acordo com a quo
 ta atribuída à freguesia)\, deve inscrever-se junto da Junta de Freguesi
 a\, indicando:Nome completoMoradaContacto telefónicoInscrições podem se
 r feitas:Por telefone - 937 656 431Por email - jf.rebordoes.sta.maria@gmai
 l.comAo balcão da Junta de FreguesiaContamos convosco para fazer de Rebor
 dões Santa Maria uma freguesia mais limpa\, mais consciente e mais respon
 sável com o ambiente. 
X-MICROSOFT-CDO-ALLDAYEVENT:TRUE
DTSTAMP:20260424T042738Z
END:VEVENT
END:VCALENDAR